BEGIN:VCALENDAR
VERSION:2.0
PRODID:-//RUMBALEA - ECPv6.15.20//NONSGML v1.0//EN
CALSCALE:GREGORIAN
METHOD:PUBLISH
X-WR-CALNAME:RUMBALEA
X-ORIGINAL-URL:https://rumbalea.com
X-WR-CALDESC:Veranstaltungen für RUMBALEA
REFRESH-INTERVAL;VALUE=DURATION:PT1H
X-Robots-Tag:noindex
X-PUBLISHED-TTL:PT1H
BEGIN:VTIMEZONE
TZID:UTC
BEGIN:STANDARD
TZOFFSETFROM:+0000
TZOFFSETTO:+0000
TZNAME:UTC
DTSTART:20220101T000000
END:STANDARD
END:VTIMEZONE
BEGIN:VEVENT
DTSTART;TZID=UTC:20251115T200000
DTEND;TZID=UTC:20251115T223000
DTSTAMP:20260421T081826
CREATED:20241216T115429Z
LAST-MODIFIED:20251010T124713Z
UID:1099-1763236800-1763245800@rumbalea.com
SUMMARY:Spanischer Abend "Gipsy Dreams"
DESCRIPTION:Unter dem Titel „GIPSY DREAMS“ präsentiert die international gefeierte Band RUMBALEA im Bürgerhaus Neuer Markt in Bühl am 15. November 2025 eine spanische Nacht voller energiegeladener Livemusik und temperamentvollem Flamencotanz und leckeren Tapas*. \nFeurige Gitarrenmusik und Stimmen\, die unter die Haut gehen… das ist RUMBALEA.\nBereits mit dem ersten Takt versetzt diese einzigartige Liveband das Publikum mit den Hits der Gipsy Kings und modernem Flamenco-Pop in ausgelassene Urlaubsstimmung. \nDie 5-köpfige Formation ist seit mehr als zwei Jahrzehnten weltweit auf Tour.\nAuf über 500 Shows hat diese Ausnahmeformation ihre “Fiesta-Garantie” schon unter Beweis gestellt. Darunter waren große Open-Air-Konzerte\, zahlreiche Firmenevents\, TV-Shows\, private Anlässe und VIP-Events -wie u.a. die Hochzeitsfeier des Fußballstars Mario Götze auf Mallorca- für die RUMBALEA exklusiv eingeflogen wurde. \n„GIPSY DREAMS“ mit RUMBALEA – Ein Abend voller Leidenschaft\, Lebensfreude und feuriger Rhythmen! \n* in der Pause erhältlich – nicht im Eintrittspreis enthalten! \n  \nTicketpreise Vorverkauf:  \nKategorie 1:  28\,70€ (ermäßigt 25\,40€)\nKategorie 2:  25\,40€ (ermäßigt 23\,20€) \nTicketpreise zuzügl. VVK-Gebühr \nAbendkasse:  \nKategorie 1:  30€ (ermäßigt 28€)\nKategorie 2:  28€ (ermäßigt 26€) \nTickets sind erhältlich auf RESERVIX
URL:https://rumbalea.com/event/spanischer-abend-gipsy-dreams
LOCATION:Bürgerhaus „Neuer Markt“\, Bühl
CATEGORIES:Öffentlich
ATTACH;FMTTYPE=image/jpeg:https://rumbalea.com/wp-content/uploads/2024/12/RUMBALEA-Gipsy-Dreams-15.11.2025-Buergerhaus_Teaser.jpg
END:VEVENT
BEGIN:VEVENT
DTSTART;VALUE=DATE:20251031
DTEND;VALUE=DATE:20251101
DTSTAMP:20260421T081826
CREATED:20251008T142833Z
LAST-MODIFIED:20251008T142845Z
UID:1227-1761868800-1761955199@rumbalea.com
SUMMARY:Firmenevent (Trio)
DESCRIPTION:
URL:https://rumbalea.com/event/firmenevent-trio
LOCATION:Pratteln CH\, Pratteln\, Switzerland
CATEGORIES:Nicht Öffentlich
END:VEVENT
BEGIN:VEVENT
DTSTART;VALUE=DATE:20250914
DTEND;VALUE=DATE:20250915
DTSTAMP:20260421T081826
CREATED:20250626T114255Z
LAST-MODIFIED:20250626T115705Z
UID:1165-1757808000-1757894399@rumbalea.com
SUMMARY:Spanisches Fest im Europa-Park
DESCRIPTION:Feiern Sie das Spanische Fest – ein Highlight im Rahmen des 50. Jubiläums des Europa-Park! \nAm 13. und 14. September 2025 verwandeln sich die verwinkelten Gassen des Spanischen Themenbereichs in eine lebendige Bühne voller spanischer Lebensfreude. Genießen Sie feurige Flamenco-Shows\, traditionelle Musik und authentische spanische Köstlichkeiten\, die Sie direkt ins sonnige Spanien entführen. \nDie typische Architektur mit ihren charmanten Pflastersteinen und mediterranem Flair schafft die perfekte Kulisse für dieses Fest. Ob Tanz\, Musik oder Genuss – erleben Sie spanische Kultur hautnah und genießen Sie unvergessliche Momente voller Lebensfreude. \nDas Spanische Fest ist im Europa-Park Eintritt inklusive – ¡Olé! \n 
URL:https://rumbalea.com/event/spanisches-fest-im-europa-park-2
LOCATION:Europa-Park
CATEGORIES:Öffentlich
END:VEVENT
BEGIN:VEVENT
DTSTART;VALUE=DATE:20250913
DTEND;VALUE=DATE:20250914
DTSTAMP:20260421T081826
CREATED:20250626T114159Z
LAST-MODIFIED:20250626T114159Z
UID:1163-1757721600-1757807999@rumbalea.com
SUMMARY:Spanisches Fest im Europa-Park
DESCRIPTION:Feiern Sie das Spanische Fest – ein Highlight im Rahmen des 50. Jubiläums des Europa-Park! \nAm 13. und 14. September 2025 verwandeln sich die verwinkelten Gassen des Spanischen Themenbereichs in eine lebendige Bühne voller spanischer Lebensfreude. Genießen Sie feurige Flamenco-Shows\, traditionelle Musik und authentische spanische Köstlichkeiten\, die Sie direkt ins sonnige Spanien entführen. \nDie typische Architektur mit ihren charmanten Pflastersteinen und mediterranem Flair schafft die perfekte Kulisse für dieses Fest. Ob Tanz\, Musik oder Genuss – erleben Sie spanische Kultur hautnah und genießen Sie unvergessliche Momente voller Lebensfreude. \nDas Spanische Fest ist im Europa-Park Eintritt inklusive – ¡Olé!
URL:https://rumbalea.com/event/spanisches-fest-im-europa-park
LOCATION:Europa-Park
CATEGORIES:Öffentlich
END:VEVENT
BEGIN:VEVENT
DTSTART;VALUE=DATE:20250823
DTEND;VALUE=DATE:20250824
DTSTAMP:20260421T081826
CREATED:20240710T102828Z
LAST-MODIFIED:20250506T122639Z
UID:1086-1755907200-1755993599@rumbalea.com
SUMMARY:Spanischer Abend (Trio)
DESCRIPTION:Der Eintritt liegt bei 24\,- Euro pro Person und ist bei Anmeldung zu zahlen. Essen und Getränke sind nicht im Preis enthalten.\nReservierung telefonisch  05444-99 41 411 oder per WhatsApp unter 0173 2317851 \nwww.weindeele-wagenfeld.de
URL:https://rumbalea.com/event/spanischer-abend-trio-6
LOCATION:WeinDeele\, Hauptstraße 82\, Wagenfeld\, 49419\, Germany
CATEGORIES:Öffentlich
END:VEVENT
BEGIN:VEVENT
DTSTART;VALUE=DATE:20250822
DTEND;VALUE=DATE:20250823
DTSTAMP:20260421T081826
CREATED:20240710T102748Z
LAST-MODIFIED:20250506T122658Z
UID:1084-1755820800-1755907199@rumbalea.com
SUMMARY:Spanischer Abend (Trio)
DESCRIPTION:Der Eintritt liegt bei 24\,- Euro pro Person und ist bei Anmeldung zu zahlen. Essen und Getränke sind nicht im Preis enthalten.\nReservierung telefonisch  05444-99 41 411 oder per WhatsApp unter 0173 2317851 \nwww.weindeele-wagenfeld.de
URL:https://rumbalea.com/event/spanischer-abend-trio-5
LOCATION:WeinDeele\, Hauptstraße 82\, Wagenfeld\, 49419\, Germany
CATEGORIES:Öffentlich
END:VEVENT
BEGIN:VEVENT
DTSTART;VALUE=DATE:20250816
DTEND;VALUE=DATE:20250817
DTSTAMP:20260421T081826
CREATED:20250121T103031Z
LAST-MODIFIED:20250505T190806Z
UID:1112-1755302400-1755388799@rumbalea.com
SUMMARY:Spanische Nacht - Küchenparty
DESCRIPTION:Unter dem Sternenzelt hallen die alten Gemäuer des ehemaligen Kinos von feurigem Flamenco und temperamentvollem Gitarrenspiel. DIE Nr. 1 Gipsy Kings Coverband „RUMBALEA“ heizen ein mit rassigem Tanz und spanischer Musik. Dazu serviert Spanienliebhaber Markus Pape mit seinem Team die passenden Köstlichkeiten aus der Freiluftküche. Eröffnet wird mit einem Tapas-Buffet und klassischer Sangria. Danach erwarten die Gäste Paella mit Meeresfrüchten\, Iberico-Schwein aus dem Smoker und Fisch und Meeresfrüchte vom Big Green Egg und die passenden Beilagen. Dazu werden köstliche spanische Weine serviert. Der Abschluss bildet Arroz con leche. \nBeginn 18:30 Uhr\n149\,00 € pro Person inkl. begleitender Getränke bis 23.00 Uhr sowie Live Musik von »RUMBALEA« \nTickets gibt es HIER \n(Das Ticket ist übertragbar und kann nicht erstattet werden.)
URL:https://rumbalea.com/event/spanische-nacht-15
LOCATION:Meisenheimer Hof\, Meisenheim\, Germany
CATEGORIES:Öffentlich
END:VEVENT
BEGIN:VEVENT
DTSTART;TZID=UTC:20250801T190000
DTEND;TZID=UTC:20250801T220000
DTSTAMP:20260421T081826
CREATED:20241004T112944Z
LAST-MODIFIED:20250602T120810Z
UID:1095-1754074800-1754085600@rumbalea.com
SUMMARY:Klappstuhl Konzert (Open Air) - Ausverkauft!!
DESCRIPTION:Genießen Sie einen reich gefüllten Picknick-Korb aus der Klosterküche im Hof des Klosters mit spanischer Musik von Rumbalea. \nDie Bestellung der Picknick-Körbe\, 32\,50 Euro pro Korb\, erfolgt vorab im Bürgerhaus Neuer Markt. \nWeitere Infos \nDer 01.08. ist leider bereits komplett ausverkauft. Es gibt eine Warteliste. \nAlternativ könnt ihr euch hier ein Ticket für unsere große Show am 15.11. im Bürgerhaus Neuer Markt in Bühl sichern!! 
URL:https://rumbalea.com/event/klappstuhl-konzert-open-air
LOCATION:Klosterhof Maria Hilf\, Bühl\, Germany
CATEGORIES:Öffentlich
END:VEVENT
BEGIN:VEVENT
DTSTART;TZID=UTC:20250731T150000
DTEND;TZID=UTC:20250731T220000
DTSTAMP:20260421T081826
CREATED:20250506T122334Z
LAST-MODIFIED:20250506T125223Z
UID:1125-1753974000-1753999200@rumbalea.com
SUMMARY:Gartenparty | Hotel Papa Rhein und Restaurant Zollamt Bingen
DESCRIPTION:🍽️ Gourmet-Erlebnis:\nSommerlichen Specials aus der Papa Rhein Küche\, exklusiv für unsere Lounge-Gäste zubereitet. \n  \n🍷 Weingenuss pur:\nErleben Sie ausgewählte Weine von renommierten Weingütern:\nWeingut Hemmes\, Weingut Hildegardishof\, Weingut Korrell und Weingut Kruger-Rumpf – persönlich vor Ort! \n  \n🍸 Lounge-Atmosphäre:\nZugang zum stilvollen Lounge-Bereich mit komfortablen Sitzplätzen\, ausgewählten Drinks und Blick aufs Wasser. \n  \n🎶 Entertainment:\nGenießen Sie Live-Musik von RUMBALEA und DJ-Sounds von Danny Ventura in entspannter\, sommerlicher Atmosphäre. \n  \nTickets gibts hier
URL:https://rumbalea.com/event/gartenparty-hotel-papa-rhein-und-restaurant-zollamt-bingen
LOCATION:Bingen\, Rhein-Nahe-Eck\, Bingen am Rhein\, Germany
CATEGORIES:Öffentlich
END:VEVENT
BEGIN:VEVENT
DTSTART;TZID=UTC:20250723T190000
DTEND;TZID=UTC:20250723T223000
DTSTAMP:20260421T081826
CREATED:20250506T125349Z
LAST-MODIFIED:20250506T125349Z
UID:1136-1753297200-1753309800@rumbalea.com
SUMMARY:Schlemmen am See
DESCRIPTION:
URL:https://rumbalea.com/event/schlemmen-am-see-4
LOCATION:Böblingen\, Deutschland
CATEGORIES:Öffentlich
END:VEVENT
BEGIN:VEVENT
DTSTART;VALUE=DATE:20250628
DTEND;VALUE=DATE:20250629
DTSTAMP:20260421T081826
CREATED:20240710T102700Z
LAST-MODIFIED:20250506T122711Z
UID:1082-1751068800-1751155199@rumbalea.com
SUMMARY:Spanischer Abend (Trio)
DESCRIPTION:Der Eintritt liegt bei 24\,- Euro pro Person und ist bei Anmeldung zu zahlen. Essen und Getränke sind nicht im Preis enthalten.\nReservierung telefonisch  05444-99 41 411 oder per WhatsApp unter 0173 2317851 \nwww.weindeele-wagenfeld.de
URL:https://rumbalea.com/event/spanischer-abend-trio-4
LOCATION:WeinDeele\, Hauptstraße 82\, Wagenfeld\, 49419\, Germany
CATEGORIES:Öffentlich
END:VEVENT
BEGIN:VEVENT
DTSTART;VALUE=DATE:20250627
DTEND;VALUE=DATE:20250628
DTSTAMP:20260421T081826
CREATED:20240710T102530Z
LAST-MODIFIED:20250506T122722Z
UID:1080-1750982400-1751068799@rumbalea.com
SUMMARY:Spanischer Abend (Trio)
DESCRIPTION:Der Eintritt liegt bei 24\,- Euro pro Person und ist bei Anmeldung zu zahlen. Essen und Getränke sind nicht im Preis enthalten.\nReservierung telefonisch  05444-99 41 411 oder per WhatsApp unter 0173 2317851 \nwww.weindeele-wagenfeld.de
URL:https://rumbalea.com/event/spanischer-abend-trio-3
LOCATION:WeinDeele\, Hauptstraße 82\, Wagenfeld\, 49419\, Germany
CATEGORIES:Öffentlich
END:VEVENT
BEGIN:VEVENT
DTSTART;TZID=UTC:20250619T180000
DTEND;TZID=UTC:20250619T220000
DTSTAMP:20260421T081826
CREATED:20250602T120034Z
LAST-MODIFIED:20250602T120044Z
UID:1153-1750356000-1750370400@rumbalea.com
SUMMARY:Lahnuferfest (Trio)
DESCRIPTION:
URL:https://rumbalea.com/event/lahnuferfest
LOCATION:Gießen\, Germany
CATEGORIES:Öffentlich
END:VEVENT
BEGIN:VEVENT
DTSTART;TZID=UTC:20250411T190000
DTEND;TZID=UTC:20250411T223000
DTSTAMP:20260421T081826
CREATED:20250113T133836Z
LAST-MODIFIED:20250113T133836Z
UID:1107-1744398000-1744410600@rumbalea.com
SUMMARY:Spanischer Abend auf dem Schiff
DESCRIPTION:
URL:https://rumbalea.com/event/spanischer-abend-auf-dem-schiff
LOCATION:MS Königin Silvia\, Heidelberg\, Deutschland
CATEGORIES:Öffentlich
END:VEVENT
BEGIN:VEVENT
DTSTART;VALUE=DATE:20241231
DTEND;VALUE=DATE:20250101
DTSTAMP:20260421T081826
CREATED:20240710T102215Z
LAST-MODIFIED:20240710T102215Z
UID:1077-1735603200-1735689599@rumbalea.com
SUMMARY:Silvestergala mit RUMBALEA
DESCRIPTION:
URL:https://rumbalea.com/event/silvestergala-mit-rumbalea
LOCATION:Europa-Park
CATEGORIES:Öffentlich
END:VEVENT
BEGIN:VEVENT
DTSTART;VALUE=DATE:20241109
DTEND;VALUE=DATE:20241110
DTSTAMP:20260421T081826
CREATED:20240229T121528Z
LAST-MODIFIED:20240719T092424Z
UID:1074-1731110400-1731196799@rumbalea.com
SUMMARY:Spanische Nacht  -  "A tribute to the Gipsy Kings"
DESCRIPTION:Ein spanischer Abend mit feuriger Livemusik von RUMBALEA\, temperamentvollem Flamencotanz und spanisch-kulinarischen Köstlichkeiten. \nJetzt schnell noch Tickets sichern!!
URL:https://rumbalea.com/event/spanische-nacht-a-tribute-to-the-gipsy-kings
LOCATION:Klosterkirche Erlenbad\, Sasbach\, Deutschland
CATEGORIES:Öffentlich
END:VEVENT
BEGIN:VEVENT
DTSTART;VALUE=DATE:20240831
DTEND;VALUE=DATE:20240901
DTSTAMP:20260421T081826
CREATED:20240229T121423Z
LAST-MODIFIED:20240229T121423Z
UID:1071-1725062400-1725148799@rumbalea.com
SUMMARY:Spanische Nacht
DESCRIPTION:
URL:https://rumbalea.com/event/spanische-nacht-13
LOCATION:Mülheim a.d.R.\, Mülheim a.d.R.\, Deutschland
CATEGORIES:Öffentlich
END:VEVENT
BEGIN:VEVENT
DTSTART;VALUE=DATE:20240721
DTEND;VALUE=DATE:20240722
DTSTAMP:20260421T081826
CREATED:20240229T121240Z
LAST-MODIFIED:20240229T121249Z
UID:1069-1721520000-1721606399@rumbalea.com
SUMMARY:Schlemmen am See
DESCRIPTION:
URL:https://rumbalea.com/event/schlemmen-am-see-3
LOCATION:Böblingen\, Deutschland
CATEGORIES:Öffentlich
END:VEVENT
BEGIN:VEVENT
DTSTART;VALUE=DATE:20240615
DTEND;VALUE=DATE:20240616
DTSTAMP:20260421T081826
CREATED:20240229T121153Z
LAST-MODIFIED:20240229T121153Z
UID:1067-1718409600-1718495999@rumbalea.com
SUMMARY:Spanischer Abend (Trio)
DESCRIPTION:
URL:https://rumbalea.com/event/spanischer-abend-trio-2
LOCATION:WeinDeele\, Hauptstraße 82\, Wagenfeld\, 49419\, Germany
CATEGORIES:Öffentlich
END:VEVENT
BEGIN:VEVENT
DTSTART;VALUE=DATE:20240614
DTEND;VALUE=DATE:20240615
DTSTAMP:20260421T081826
CREATED:20240229T121006Z
LAST-MODIFIED:20240229T121053Z
UID:1064-1718323200-1718409599@rumbalea.com
SUMMARY:Spanischer Abend (Trio)
DESCRIPTION:
URL:https://rumbalea.com/event/spanischer-abend-trio
LOCATION:WeinDeele\, Hauptstraße 82\, Wagenfeld\, 49419\, Germany
CATEGORIES:Öffentlich
END:VEVENT
BEGIN:VEVENT
DTSTART;TZID=UTC:20240419T180000
DTEND;TZID=UTC:20240419T220000
DTSTAMP:20260421T081826
CREATED:20240229T120905Z
LAST-MODIFIED:20240229T121019Z
UID:1061-1713549600-1713564000@rumbalea.com
SUMMARY:Spanische Nacht auf dem Schiff
DESCRIPTION:
URL:https://rumbalea.com/event/spanische-nacht-auf-dem-schiff-2
LOCATION:Weiße Flotte\, Heidelberg\, Deutschland
CATEGORIES:Öffentlich
END:VEVENT
BEGIN:VEVENT
DTSTART;VALUE=DATE:20230728
DTEND;VALUE=DATE:20230729
DTSTAMP:20260421T081826
CREATED:20230228T124220Z
LAST-MODIFIED:20230605T175626Z
UID:1010-1690502400-1690588799@rumbalea.com
SUMMARY:Spanische Nacht
DESCRIPTION:
URL:https://rumbalea.com/event/spanische-nacht-14
LOCATION:Ramstein-Miesenbach
CATEGORIES:Öffentlich
END:VEVENT
BEGIN:VEVENT
DTSTART;TZID=UTC:20230723T163000
DTEND;TZID=UTC:20230723T203000
DTSTAMP:20260421T081826
CREATED:20221229T094005Z
LAST-MODIFIED:20221229T094005Z
UID:964-1690129800-1690144200@rumbalea.com
SUMMARY:Schlemmen am See
DESCRIPTION:
URL:https://rumbalea.com/event/schlemmen-am-see-2
LOCATION:Böblingen\, Deutschland
CATEGORIES:Öffentlich
END:VEVENT
BEGIN:VEVENT
DTSTART;VALUE=DATE:20230716
DTEND;VALUE=DATE:20230717
DTSTAMP:20260421T081826
CREATED:20230228T124029Z
LAST-MODIFIED:20230228T124029Z
UID:1007-1689465600-1689551999@rumbalea.com
SUMMARY:Altleininger Kerwe
DESCRIPTION:
URL:https://rumbalea.com/event/altleininger-kerwe
LOCATION:Altleiningen\, Deutschland
CATEGORIES:Öffentlich
END:VEVENT
BEGIN:VEVENT
DTSTART;VALUE=DATE:20230630
DTEND;VALUE=DATE:20230701
DTSTAMP:20260421T081826
CREATED:20221115T142235Z
LAST-MODIFIED:20221115T142235Z
UID:942-1688083200-1688169599@rumbalea.com
SUMMARY:Spanische Nacht
DESCRIPTION:
URL:https://rumbalea.com/event/spanische-nacht-11
LOCATION:Potsdam\, Deutschland
CATEGORIES:Nicht Öffentlich
END:VEVENT
BEGIN:VEVENT
DTSTART;VALUE=DATE:20230609
DTEND;VALUE=DATE:20230610
DTSTAMP:20260421T081826
CREATED:20230111T112154Z
LAST-MODIFIED:20230111T112231Z
UID:984-1686268800-1686355199@rumbalea.com
SUMMARY:Homburger Musiksommer 2023
DESCRIPTION:
URL:https://rumbalea.com/event/homburger-musiksommer-2023
LOCATION:Homburg\, Deutschland
CATEGORIES:Öffentlich
END:VEVENT
BEGIN:VEVENT
DTSTART;TZID=UTC:20230608T180000
DTEND;TZID=UTC:20230608T230000
DTSTAMP:20260421T081826
CREATED:20230228T120801Z
LAST-MODIFIED:20230228T124051Z
UID:1004-1686247200-1686265200@rumbalea.com
SUMMARY:Spanische Nacht  (RUMBALEA Trio)
DESCRIPTION:
URL:https://rumbalea.com/event/spanische-nacht-rumbalea-trio
LOCATION:Wein Deele\, Wagenfeld\, Deutschland
CATEGORIES:Öffentlich
END:VEVENT
BEGIN:VEVENT
DTSTART;VALUE=DATE:20230607
DTEND;VALUE=DATE:20230608
DTSTAMP:20260421T081826
CREATED:20200112T211645Z
LAST-MODIFIED:20220427T090502Z
UID:649-1686096000-1686182399@rumbalea.com
SUMMARY:Stadtfest
DESCRIPTION:
URL:https://rumbalea.com/event/open-air
LOCATION:Stadtgraben\, Walsrode\, Deutschland
CATEGORIES:Öffentlich
END:VEVENT
BEGIN:VEVENT
DTSTART;VALUE=DATE:20230519
DTEND;VALUE=DATE:20230520
DTSTAMP:20260421T081826
CREATED:20221115T142352Z
LAST-MODIFIED:20221115T142352Z
UID:945-1684454400-1684540799@rumbalea.com
SUMMARY:Messdi (Stadtfest)
DESCRIPTION:
URL:https://rumbalea.com/event/messdi-stadtfest-2
LOCATION:kehl\, Deutschland
CATEGORIES:Öffentlich
END:VEVENT
BEGIN:VEVENT
DTSTART;TZID=UTC:20230414T190000
DTEND;TZID=UTC:20230414T220000
DTSTAMP:20260421T081826
CREATED:20230112T131159Z
LAST-MODIFIED:20230112T131159Z
UID:987-1681498800-1681509600@rumbalea.com
SUMMARY:Spanische Nacht auf dem Schiff
DESCRIPTION:
URL:https://rumbalea.com/event/spanische-nacht-auf-dem-schiff
LOCATION:MS Königin Silvia\, Heidelberg\, Deutschland
CATEGORIES:Öffentlich
END:VEVENT
END:VCALENDAR